BEGIN:VCALENDAR
VERSION:2.0
PRODID:-//De Veluwsche Sanghertjes - ECPv5.15.0.1//NONSGML v1.0//EN
CALSCALE:GREGORIAN
METHOD:PUBLISH
X-WR-CALNAME:De Veluwsche Sanghertjes
X-ORIGINAL-URL:https://develuwschesanghertjes.nl
X-WR-CALDESC:Evenementen voor De Veluwsche Sanghertjes
BEGIN:VTIMEZONE
TZID:UTC
BEGIN:STANDARD
TZOFFSETFROM:+0000
TZOFFSETTO:+0000
TZNAME:UTC
DTSTART:20230101T000000
END:STANDARD
END:VTIMEZONE
BEGIN:VEVENT
DTSTART;TZID=UTC:20230916T160000
DTEND;TZID=UTC:20230916T173000
DTSTAMP:20260419T201713
CREATED:20230207T181829Z
LAST-MODIFIED:20230207T182609Z
UID:1842-1694880000-1694885400@develuwschesanghertjes.nl
SUMMARY:Jubileumconcert
DESCRIPTION:Medewerkenden:\nhet kinderkoor\,\nhet vocaal damesensemble Viva Voce en\nhet mannenensemble van\nde Veluwsche Sanghertjes\no.l.v. Gijs & Tineke Evers \n\nMarten Kamminga – piano\nWout van Veen – orgel\nGeraldine Ligtermoet – viool\nMartijn Plomp – viool\nJohannes Hulshof – cello\nBen Stolte – bas\nGeralda Snoeijer – slagwerk
URL:https://develuwschesanghertjes.nl/event/jubileumconcert/
LOCATION:Lukaskerk\, Ermelo\, Van Asch van Wijcklaan 69\, Ermelo\, Gelderland\, 3853 KV\, Nederland
END:VEVENT
END:VCALENDAR