BEGIN:VCALENDAR
VERSION:2.0
PRODID:-//De Veluwsche Sanghertjes - ECPv5.15.0.1//NONSGML v1.0//EN
CALSCALE:GREGORIAN
METHOD:PUBLISH
X-WR-CALNAME:De Veluwsche Sanghertjes
X-ORIGINAL-URL:https://develuwschesanghertjes.nl
X-WR-CALDESC:Evenementen voor De Veluwsche Sanghertjes
BEGIN:VTIMEZONE
TZID:UTC
BEGIN:STANDARD
TZOFFSETFROM:+0000
TZOFFSETTO:+0000
TZNAME:UTC
DTSTART:20180101T000000
END:STANDARD
END:VTIMEZONE
BEGIN:VEVENT
DTSTART;TZID=UTC:20181226T160000
DTEND;TZID=UTC:20181226T170000
DTSTAMP:20260422T101903
CREATED:20171229T100315Z
LAST-MODIFIED:20181207T175515Z
UID:1495-1545840000-1545843600@develuwschesanghertjes.nl
SUMMARY:Het Kerstevangelie in Woord & Lied
DESCRIPTION:Medewerkenden: leden van\nde Veluwsche Sanghertjes\no.l.v. Gijs & Tineke Evers\nRosa Ligtermoet – sopraan\nAnne Marieke Evers – mezzo\nLinda Rodenburg – alt\nEd Kiel – piano\nEntree € 5\,00\nKinderen tot 12 jaar GRATIS.
URL:https://develuwschesanghertjes.nl/event/het-kerstevangelie-in-woord-lied/
LOCATION:Lukaskerk\, Ermelo\, Van Asch van Wijcklaan 69\, Ermelo\, Gelderland\, 3853 KV\, Nederland
END:VEVENT
END:VCALENDAR