BEGIN:VCALENDAR
VERSION:2.0
PRODID:-//De Veluwsche Sanghertjes - ECPv5.15.0.1//NONSGML v1.0//EN
CALSCALE:GREGORIAN
METHOD:PUBLISH
X-WR-CALNAME:De Veluwsche Sanghertjes
X-ORIGINAL-URL:https://develuwschesanghertjes.nl
X-WR-CALDESC:Evenementen voor De Veluwsche Sanghertjes
BEGIN:VTIMEZONE
TZID:UTC
BEGIN:STANDARD
TZOFFSETFROM:+0000
TZOFFSETTO:+0000
TZNAME:UTC
DTSTART:20220101T000000
END:STANDARD
END:VTIMEZONE
BEGIN:VEVENT
DTSTART;TZID=UTC:20221226T160000
DTEND;TZID=UTC:20221226T170000
DTSTAMP:20260419T230540
CREATED:20221211T195534Z
LAST-MODIFIED:20221211T200632Z
UID:1822-1672070400-1672074000@develuwschesanghertjes.nl
SUMMARY:Het Kerstevangelie in Woord & Lied
DESCRIPTION:Medewerkenden:\nleden van het kinderkoor\,\nleden van het vocaal damesensemble Viva Voce van\nde Veluwsche Sanghertjes\no.l.v. Gijs & Tineke Evers \nEd Kiel– piano \nEntree € 5\,00\nKinderen tot 12 jaar GRATIS
URL:https://develuwschesanghertjes.nl/event/het-kerstevangelie-in-woord-lied-2/
LOCATION:Lukaskerk\, Ermelo\, Van Asch van Wijcklaan 69\, Ermelo\, Gelderland\, 3853 KV\, Nederland
END:VEVENT
END:VCALENDAR