BEGIN:VCALENDAR
VERSION:2.0
PRODID:-//De Veluwsche Sanghertjes - ECPv5.15.0.1//NONSGML v1.0//EN
CALSCALE:GREGORIAN
METHOD:PUBLISH
X-WR-CALNAME:De Veluwsche Sanghertjes
X-ORIGINAL-URL:https://develuwschesanghertjes.nl
X-WR-CALDESC:Evenementen voor De Veluwsche Sanghertjes
BEGIN:VTIMEZONE
TZID:UTC
BEGIN:STANDARD
TZOFFSETFROM:+0000
TZOFFSETTO:+0000
TZNAME:UTC
DTSTART:20180101T000000
END:STANDARD
END:VTIMEZONE
BEGIN:VEVENT
DTSTART;TZID=UTC:20180414T153000
DTEND;TZID=UTC:20180414T160000
DTSTAMP:20260422T184204
CREATED:20180409T130719Z
LAST-MODIFIED:20180409T130719Z
UID:1541-1523719800-1523721600@develuwschesanghertjes.nl
SUMMARY:Free Ermelo Festival
DESCRIPTION:
URL:https://develuwschesanghertjes.nl/event/free-ermelo-festival/
LOCATION:Raadhluisplein Ermelo\, Raadhuisplein\, Ermelo\, Gelderland\, 3851 NT\, Nederland
END:VEVENT
END:VCALENDAR