BEGIN:VCALENDAR
VERSION:2.0
PRODID:-//De Veluwsche Sanghertjes - ECPv5.15.0.1//NONSGML v1.0//EN
CALSCALE:GREGORIAN
METHOD:PUBLISH
X-WR-CALNAME:De Veluwsche Sanghertjes
X-ORIGINAL-URL:https://develuwschesanghertjes.nl
X-WR-CALDESC:Evenementen voor De Veluwsche Sanghertjes
BEGIN:VTIMEZONE
TZID:UTC
BEGIN:STANDARD
TZOFFSETFROM:+0000
TZOFFSETTO:+0000
TZNAME:UTC
DTSTART:20220101T000000
END:STANDARD
END:VTIMEZONE
BEGIN:VEVENT
DTSTART;TZID=UTC:20221210T193000
DTEND;TZID=UTC:20221210T210000
DTSTAMP:20260420T002831
CREATED:20220525T153850Z
LAST-MODIFIED:20221106T201305Z
UID:1788-1670700600-1670706000@develuwschesanghertjes.nl
SUMMARY:Advents/kerstconcert
DESCRIPTION:Medewerkenden: \nhet kinderkoor\,\nhet vocaal damesensemble Viva Voce en\nhet Vaderkoor van\nde Veluwsche Sanghertjes\no.l.v. Gijs & Tineke Evers \nMarten Kamminga – piano\nWout van Veen – orgel\nGeraldine Ligtermoet – viool\nBen Stolte – bas\nGeralda Snoeijer – slagwerk \nEntree € 7\,00\nKinderen tot 12 jaar € 2.00
URL:https://develuwschesanghertjes.nl/event/advents-kerstconcert/
LOCATION:Lukaskerk\, Ermelo\, Van Asch van Wijcklaan 69\, Ermelo\, Gelderland\, 3853 KV\, Nederland
END:VEVENT
END:VCALENDAR