BEGIN:VCALENDAR
VERSION:2.0
PRODID:-//De Veluwsche Sanghertjes - ECPv5.15.0.1//NONSGML v1.0//EN
CALSCALE:GREGORIAN
METHOD:PUBLISH
X-WR-CALNAME:De Veluwsche Sanghertjes
X-ORIGINAL-URL:https://develuwschesanghertjes.nl
X-WR-CALDESC:Evenementen voor De Veluwsche Sanghertjes
BEGIN:VTIMEZONE
TZID:UTC
BEGIN:STANDARD
TZOFFSETFROM:+0000
TZOFFSETTO:+0000
TZNAME:UTC
DTSTART:20230101T000000
END:STANDARD
END:VTIMEZONE
BEGIN:VEVENT
DTSTART;TZID=UTC:20231209T193000
DTEND;TZID=UTC:20231209T210000
DTSTAMP:20260419T180631
CREATED:20230207T183112Z
LAST-MODIFIED:20231029T190511Z
UID:1850-1702150200-1702155600@develuwschesanghertjes.nl
SUMMARY:Advents/Kerstconcert Lukaskerk Ermelo
DESCRIPTION:Medewerkenden:\nhet kinderkoor\,\nhet vocaal damesensemble Viva Voce en\nhet mannenensemble van\nde Veluwsche Sanghertjes\no.l.v. Gijs & Tineke Evers \n\nMarten Kamminga – piano\nGeraldine Ligtermoet – viool\nMartijn Plomp – viool\nJohannes Hulshof – cello\nBen Stolte – bas\nGeralda Snoeijer – slagwerk \nEntree € 8\,00\nKinderen tot 12 jaar € 2\,00
URL:https://develuwschesanghertjes.nl/event/advents-kerstconcert-lukaskerk-ermelo/
LOCATION:Lukaskerk\, Ermelo\, Van Asch van Wijcklaan 69\, Ermelo\, Gelderland\, 3853 KV\, Nederland
END:VEVENT
END:VCALENDAR