BEGIN:VCALENDAR
VERSION:2.0
PRODID:-//De Veluwsche Sanghertjes - ECPv5.15.0.1//NONSGML v1.0//EN
CALSCALE:GREGORIAN
METHOD:PUBLISH
X-WR-CALNAME:De Veluwsche Sanghertjes
X-ORIGINAL-URL:https://develuwschesanghertjes.nl
X-WR-CALDESC:Evenementen voor De Veluwsche Sanghertjes
BEGIN:VTIMEZONE
TZID:UTC
BEGIN:STANDARD
TZOFFSETFROM:+0000
TZOFFSETTO:+0000
TZNAME:UTC
DTSTART:20190101T000000
END:STANDARD
END:VTIMEZONE
BEGIN:VEVENT
DTSTART;TZID=UTC:20191226T153000
DTEND;TZID=UTC:20191226T153000
DTSTAMP:20260420T053752
CREATED:20181230T164819Z
LAST-MODIFIED:20191013T125842Z
UID:1638-1577374200-1577374200@develuwschesanghertjes.nl
SUMMARY:26 december - Medewerking aan de Kerstviering van de Zonnebloem in Putten
DESCRIPTION:leden van de Veluwsche Sanghertjes\no.l.v. Gijs & Tineke Evers\nEd Kiel – piano\n \n 
URL:https://develuwschesanghertjes.nl/event/26-december-het-kerstevangelie-in-woord-lied/
END:VEVENT
END:VCALENDAR